BEGIN:VCALENDAR
VERSION:2.0
PRODID:-//ChamberMaster//Event Calendar 2.0//EN
METHOD:PUBLISH
X-PUBLISHED-TTL:P3D
REFRESH-INTERVAL:P3D
CALSCALE:GREGORIAN
BEGIN:VEVENT
DTSTART:20180620T003000Z
DTEND:20180620T020000Z
X-MICROSOFT-CDO-ALLDAYEVENT:FALSE
SUMMARY:City of Tukwila City Council Special Meeting Notice
DESCRIPTION:CITY OF TUKWILA\n\nCITY COUNCIL\n\nSPECIAL MEETING NOTICE\n\n\n\nNOTICE IS HERE BY GIVEN the Tukwila City Council will hold a Special Work Session on Tuesday\, June 19\, 2018 at 5:30p.m. in the Council Chambers at Tukwila City Hall\, 6200 Southcenter Blvd.\, Tukwila\, WA.\n\nThe purpose of the meeting is to review the City's Compensation Policy. No official action will be taken. The public is invited to attend.\n\n\n\nChristy O'Flaherty\, Records Governance Manager/City Clerk\n\nThis is a 24-Hour Notice   Not required by law to be published.\n\nE-Mailed to SeattleTimes: June 13\, 2018\n\nE-Mailed to CityCouncil: June 15\, 2018
X-ALT-DESC;FMTTYPE=text/html:CITY OF TUKWILA<br />\nCITY COUNCIL<br />\nSPECIAL MEETING NOTICE<br />\n<br />\nNOTICE IS HERE BY GIVEN the Tukwila City Council will hold a Special Work Session on Tuesday\, June 19\, 2018 at 5:30p.m. in the Council Chambers at Tukwila City Hall\, 6200 Southcenter Blvd.\, Tukwila\, WA.<br />\nThe purpose of the meeting is to review the City&rsquo\;s Compensation Policy. No official action will be taken. The public is invited to attend.<br />\n<br />\nChristy O&rsquo\;Flaherty\, Records Governance Manager/City Clerk<br />\nThis is a 24-Hour Notice &ndash\; Not required by law to be published.<br />\nE-Mailed to SeattleTimes: June 13\, 2018<br />\nE-Mailed to CityCouncil: June 15\, 2018
LOCATION:
UID:e.2591.2129
SEQUENCE:3
DTSTAMP:20260425T012801Z
URL:http://seattlesouthsidechamber.com/events/details/city-of-tukwila-city-council-special-meeting-notice-2129
END:VEVENT

END:VCALENDAR
