BEGIN:VCALENDAR
VERSION:2.0
PRODID:-//ChamberMaster//Event Calendar 2.0//EN
METHOD:PUBLISH
X-PUBLISHED-TTL:P3D
REFRESH-INTERVAL:P3D
CALSCALE:GREGORIAN
BEGIN:VEVENT
DTSTART:20171026T013000Z
DTEND:20171026T023000Z
X-MICROSOFT-CDO-ALLDAYEVENT:FALSE
SUMMARY:City of SeaTac Open House
DESCRIPTION:OPEN HOUSE OCTOBER 25\, 2017 6:30PM   7:30PM MCMICKEN HEIGHTS ELEMENTARY SCHOOL-CAFETERIA\n\n\n\nSOUTH 166TH STREET SIDEWALK IMPROVEMENT PROJECT\n\n\n\nPublic Information and Outreach Workshop\n\n\n\nThe City of SeaTac cordially invites you to attend an Open House to provide input and learn about the proposed pedestrian and roadway improvements along South 166th Street from Military Road South to 34th Avenue South. \n\n\n\nThe Open House will be from 6:30 PM to 7:30 PM and hosted at: McMicken Heights Elementary School-Cafeteria 3708 South 168th Street SeaTac\, WA 98188 For more information contact: Gus Brandon Garcia ggarcia@ci.seatac.wa.us (206) 973-4821 \n\n\n\nProject Workshop\n\nInformation on project schedule for design and construction\n\nDesign elements include: Sidewalk and Pedestrian Improvements Roadway Design and Drainage\, Driveway Connections\, Pedestrian Crosswalks
X-ALT-DESC;FMTTYPE=text/html:OPEN HOUSE OCTOBER 25\, 2017 6:30PM &ndash\; 7:30PM MCMICKEN HEIGHTS ELEMENTARY SCHOOL-CAFETERIA<br />\n<br />\nSOUTH 166TH STREET SIDEWALK&nbsp\;IMPROVEMENT PROJECT<br />\n<br />\nPublic Information and Outreach Workshop<br />\n<br />\nThe City of SeaTac cordially invites you to attend an Open House to provide input and learn about the proposed pedestrian and roadway improvements along South 166th Street from Military Road South to 34th Avenue South.&nbsp\;<br />\n<br />\nThe Open House will be from 6:30 PM to 7:30 PM and hosted at: McMicken Heights Elementary School-Cafeteria 3708 South 168th Street SeaTac\, WA 98188 For more information contact: Gus Brandon Garcia ggarcia@ci.seatac.wa.us (206) 973-4821&nbsp\;<br />\n<br />\nProject Workshop<br />\nInformation on project schedule for design and construction<br />\nDesign elements include: Sidewalk and Pedestrian Improvements Roadway Design and Drainage\, Driveway Connections\, Pedestrian Crosswalks
LOCATION:MCMICKEN HEIGHTS ELEMENTARY SCHOOL-CAFETERIA
UID:e.2591.1000
SEQUENCE:3
DTSTAMP:20260425T153153Z
URL:http://seattlesouthsidechamber.com/events/details/city-of-seatac-open-house-1000
END:VEVENT

END:VCALENDAR
