BEGIN:VCALENDAR
VERSION:2.0
PRODID:-//ChamberMaster//Event Calendar 2.0//EN
METHOD:PUBLISH
X-PUBLISHED-TTL:P3D
REFRESH-INTERVAL:P3D
CALSCALE:GREGORIAN
BEGIN:VEVENT
DTSTART:20170921T000000Z
DTEND:20170921T020000Z
X-MICROSOFT-CDO-ALLDAYEVENT:FALSE
SUMMARY:City of SeaTac Community Meeting
DESCRIPTION:Community Meeting - Fire Station 47 Relocation\n\n\n	Date: 09/20/2017 5:30 PM - 7:00 PM\n	Location: Fire Station 47\n\n	3215 S. 152nd St.\n\n	SeaTac\n\nSeaTac and the Puget Sound Regional Fire Authority will host a meeting to inform residents and answer questions regarding the relocation of fire station 47 to fire station 46.  \n\n\n\nClick Here for More Information: \n\nhttp://www.ci.seatac.wa.us/home/showdocument?id=17427
X-ALT-DESC;FMTTYPE=text/html:<h3 style="margin-bottom:.0001pt\;"><span style="color:#337FFE\;">Community Meeting - Fire Station 47 Relocation</span></h3>\n\n<ul>\n	<li style="vertical-align:top\;">Date: 09/20/2017 5:30 PM - 7:00 PM</li>\n	<li style="vertical-align:top\;">Location: Fire Station 47<br />\n	3215 S. 152nd St.<br />\n	SeaTac</li>\n</ul>\nSeaTac and the Puget Sound Regional Fire Authority will host a meeting to inform residents and answer questions regarding the relocation of fire station 47 to fire station 46. &nbsp\;<br />\n<br />\nClick Here for More Information:&nbsp\;<br />\n<a href="http://www.ci.seatac.wa.us/home/showdocument?id=17427">http://www.ci.seatac.wa.us/home/showdocument?id=17427</a>
LOCATION:Fire Station 47 3215 S. 152nd St. SeaTac
UID:e.2591.977
SEQUENCE:3
DTSTAMP:20260425T183528Z
URL:http://seattlesouthsidechamber.com/events/details/city-of-seatac-community-meeting-977
END:VEVENT

END:VCALENDAR
