BEGIN:VCALENDAR
VERSION:2.0
PRODID:-//ChamberMaster//Event Calendar 2.0//EN
METHOD:PUBLISH
X-PUBLISHED-TTL:P3D
REFRESH-INTERVAL:P3D
CALSCALE:GREGORIAN
BEGIN:VEVENT
DTSTART:20260513T230000Z
DTEND:20260514T010000Z
X-MICROSOFT-CDO-ALLDAYEVENT:FALSE
SUMMARY:City of Normandy Park Spring Community Connect
DESCRIPTION:Join us for the City of Normandy Park Community Connect Series- an engaging lineup of events designed to bring residents\, local businesses\, and city leadership together. This initiative aims to strengthen community connections\, increase awareness of city resources\, and support local economic vitality through coordinated outreach and programming.\n\nThe series will take place on May 13\, July 16\, and October 15\, 2026\, offering multiple opportunities throughout the year for meaningful engagement. Each event will feature a welcome from city leadership or a council representative\, along with a brief city update to keep the community informed about key initiatives\, projects\, and services.\n\nThrough these events\, the City seeks to foster stronger relationships with local businesses\, highlight community resources\, and promote Normandy Park as a vibrant and connected place to live\, work\, and gather.
X-ALT-DESC;FMTTYPE=text/html:<p data-end="474" data-start="116">Join us for the City of Normandy Park&nbsp\;<em data-end="183" data-start="164">Community Connect</em>&nbsp\;Series- an engaging lineup of events designed to bring residents\, local businesses\, and city leadership together. This initiative aims to strengthen community connections\, increase awareness of city resources\, and support local economic vitality through coordinated outreach and programming.</p>\n\n<p data-end="820" data-start="476">The series will take place on <strong data-end="547" data-start="506">May 13\, July 16\, and October 15\, 2026</strong>\, offering multiple opportunities throughout the year for meaningful engagement. Each event will feature a welcome from city leadership or a council representative\, along with a brief city update to keep the community informed about key initiatives\, projects\, and services.</p>\n\n<p data-end="1031" data-start="822">Through these events\, the City seeks to foster stronger relationships with local businesses\, highlight community resources\, and promote Normandy Park as a vibrant and connected place to live\, work\, and gather.</p>\n
LOCATION:TBD
UID:e.2591.7768
SEQUENCE:3
DTSTAMP:20260423T234852Z
URL:http://seattlesouthsidechamber.com/events/details/city-of-normandy-park-spring-community-connect-7768
END:VEVENT

END:VCALENDAR
