BEGIN:VCALENDAR
VERSION:2.0
PRODID:-//ChamberMaster//Event Calendar 2.0//EN
METHOD:PUBLISH
X-PUBLISHED-TTL:P3D
REFRESH-INTERVAL:P3D
CALSCALE:GREGORIAN
BEGIN:VEVENT
DTSTART:20190411T020000Z
DTEND:20190411T040000Z
X-MICROSOFT-CDO-ALLDAYEVENT:FALSE
SUMMARY:City of Burien Planning Commission Public Hearing
DESCRIPTION:The Burien Planning Commission is holding a public hearing to receive comments on a proposed amendment relating to sign regulations on temporary signage on April 10th at 7 pm at Burien City Hall.
X-ALT-DESC;FMTTYPE=text/html:<span style="color: rgb(0\, 60\, 113)\; font-family: Arial\, Verdana\, Helvetica\, sans-serif\; font-size: 16px\; white-space: pre-wrap\;">The Burien Planning Commission is holding a public hearing to receive comments on a proposed amendment relating to sign regulations on temporary signage on April 10th at 7 pm at Burien City Hall. </span>
LOCATION:Burien City Hall
UID:e.2591.2900
SEQUENCE:3
DTSTAMP:20260424T110833Z
URL:http://seattlesouthsidechamber.com/events/details/city-of-burien-planning-commission-public-hearing-2900
END:VEVENT

END:VCALENDAR
