BEGIN:VCALENDAR
VERSION:2.0
PRODID:-//ChamberMaster//Event Calendar 2.0//EN
METHOD:PUBLISH
X-PUBLISHED-TTL:P3D
REFRESH-INTERVAL:P3D
CALSCALE:GREGORIAN
BEGIN:VEVENT
DTSTART:20170818T013000Z
DTEND:20170818T030000Z
X-MICROSOFT-CDO-ALLDAYEVENT:FALSE
SUMMARY:City of Burien Music in the Park Series
DESCRIPTION:2017 City of Burien Parks\, Recreation & Cultural Services presents Music in the Park\n\n\n\nJuly 20: Missy G Country Band\n\nJuly 27: 85th Street Big Band\n\nAugust 3: Bootleg Sunshine\n\nAugust 10: LeRoy Bell & His Only Friends\n\nAugust 17: Fun Addicts\n\n\n\n\n\nLake Burien School Park\n\n 1620 SW 149th Street\n\nFood Vendor: Nibbles Seattle & Pop Up Bike Pops\n\n\n\nRainout Location\n\nBurien Community Center - 14700 6th Ave SW
X-ALT-DESC;FMTTYPE=text/html:<span class="normal" style="margin: 0px\; padding: 0px\; border: 0px\; outline: 0px\; font-family: Arial\; vertical-align: baseline\; text-align: center\;">2017 City of Burien&nbsp\;Parks\, Recreation &amp\; Cultural Services presents Music in the Park<br />\n<br />\nJuly 20: Missy G Country Band<br />\nJuly 27: 85th Street Big Band<br />\nAugust 3: Bootleg Sunshine<br />\nAugust 10: LeRoy Bell &amp\; His Only Friends<br />\nAugust 17: Fun Addicts<br />\n<br />\n<br />\nLake Burien School </span><span class="normal" style="margin: 0px\; padding: 0px\; border: 0px\; outline: 0px\; font-family: Arial\; vertical-align: baseline\; text-align: center\;">Park<br />\n&#8203\;</span><span style="margin: 0px\; padding: 0px\; border: 0px\; outline: 0px\; font-family: Arial\; vertical-align: baseline\; text-align: center\;">1620</span><span style="margin: 0px\; padding: 0px\; border: 0px\; outline: 0px\; font-family: Arial\; vertical-align: baseline\; text-align: center\;"> SW 149th Street</span><br style="color: rgb(2\, 17\, 31)\; font-family: Arial\; text-align: center\; background-color: rgb(193\, 199\, 126)\; font-size: 13.3333px\;" />\n<span style="margin: 0px\; padding: 0px\; border: 0px\; outline: 0px\; font-family: Arial\; vertical-align: baseline\; text-align: center\;">Food Vendor:&nbsp\;</span>Nibbles Seattle<span style="margin: 0px\; padding: 0px\; border: 0px\; outline: 0px\; font-family: Arial\; vertical-align: baseline\; text-align: center\;">&nbsp\;&amp\;&nbsp\;</span>Pop Up Bike Pops<br />\n<br />\nRainout Location<br />\n<span style="margin: 0px\; padding: 0px\; border: 0px\; outline: 0px\; font-family: Arial\; vertical-align: baseline\; text-align: center\;">Burien Community Center -&nbsp\;</span><span style="margin: 0px\; padding: 0px\; border: 0px\; outline: 0px\; font-family: Arial\; vertical-align: baseline\; text-align: center\;">14700 6th Ave SW</span>
LOCATION:Lake Burien School Park 1620 SW 149th Street Food Vendor: Nibbles Seattle & Pop Up Bike Pops Rainout Location Burien Community Center - 14700 6th Ave SW
UID:e.2591.844
SEQUENCE:3
DTSTAMP:20260425T183109Z
URL:http://seattlesouthsidechamber.com/events/details/city-of-burien-music-in-the-park-series-08-17-2017-844
END:VEVENT

END:VCALENDAR
