BEGIN:VCALENDAR
VERSION:2.0
PRODID:-//ChamberMaster//Event Calendar 2.0//EN
METHOD:PUBLISH
X-PUBLISHED-TTL:P3D
REFRESH-INTERVAL:P3D
CALSCALE:GREGORIAN
BEGIN:VEVENT
DTSTART:20170720T013000Z
DTEND:20170720T030000Z
X-MICROSOFT-CDO-ALLDAYEVENT:FALSE
SUMMARY:City of Burien 2017 Neighborhood Celebrations
DESCRIPTION:City of Burien Neighborhood celebrations\n\n\n\nCome out and celebrate your neighborhood with music\, family activities\, and a chance to share your ideas about your community with City of Burien Staff.\n\n\n\nJuly 19: Southern Heights Elementary Field\n\n11249 14th AVE S\n\n\n\nJuly 26: New Start High School field\n\n614 SW 120th ST\n\n\n\nAugust 2: Manhattan School Playground Park\n\n18386 4th AVE S\n\n\n\nAugust 9: Seahurst Beach\n\n1600 SW Seahurst Park RD\n\n\n\nFor more information email parksinfor@burienwa.gov or call 206-988-3700
X-ALT-DESC;FMTTYPE=text/html:City of Burien Neighborhood celebrations<br />\n<br />\nCome out and celebrate your neighborhood with music\, family activities\, and a chance to share your ideas about your community with City of Burien Staff.<br />\n<br />\nJuly 19: Southern Heights Elementary Field<br />\n11249 14th AVE S<br />\n<br />\nJuly 26: New Start High School field<br />\n614 SW 120th ST<br />\n<br />\nAugust 2: Manhattan School Playground Park<br />\n18386 4th AVE S<br />\n<br />\nAugust 9: Seahurst Beach<br />\n1600 SW Seahurst&nbsp\;Park RD<br />\n<br />\nFor more information email parksinfor@burienwa.gov or call 206-988-3700
LOCATION:July 19: Southern Heights Elementary Field 11249 14th AVE S July 26: New Start High School field 614 SW 120th ST August 2: Manhattan School Playground Park 18386 4th AVE S August 9: Seahurst Beach 1600 SW Seahurst Park RD
UID:e.2591.845
SEQUENCE:3
DTSTAMP:20260425T201110Z
URL:http://seattlesouthsidechamber.com/events/details/city-of-burien-2017-neighborhood-celebrations-845
END:VEVENT

END:VCALENDAR
