BEGIN:VCALENDAR
VERSION:2.0
PRODID:-//ChamberMaster//Event Calendar 2.0//EN
METHOD:PUBLISH
X-PUBLISHED-TTL:P3D
REFRESH-INTERVAL:P3D
CALSCALE:GREGORIAN
BEGIN:VEVENT
DTSTART:20190626T230000Z
DTEND:20190627T010000Z
X-MICROSOFT-CDO-ALLDAYEVENT:FALSE
SUMMARY:Chamber Mixer with the Seattle Southside RTA
DESCRIPTION:Join us for the Chamber's June Mixer! It will be the perfect place to network and make new contacts in the Business and Chamber Community.\n\n\n\nChamber Mixers are on the 4th Wednesday of every month from 4pm-6pm.
X-ALT-DESC;FMTTYPE=text/html:Join us for the Chamber&#39\;s June Mixer! It will be the perfect place to network and make new contacts in the Business and Chamber Community.<br />\n<br />\nChamber Mixers are on the 4th Wednesday of every month from 4pm-6pm.
LOCATION:Seattle Southside Regional Tourism Authority 3100 S. 176th St. SeaTac\, WA 98188
UID:e.2591.2787
SEQUENCE:3
DTSTAMP:20260424T025254Z
URL:http://seattlesouthsidechamber.com/events/details/chamber-mixer-with-the-seattle-southside-rta-2787
END:VEVENT

END:VCALENDAR
