BEGIN:VCALENDAR
VERSION:2.0
PRODID:-//ChamberMaster//Event Calendar 2.0//EN
METHOD:PUBLISH
X-PUBLISHED-TTL:P3D
REFRESH-INTERVAL:P3D
CALSCALE:GREGORIAN
BEGIN:VEVENT
DTSTART:20190327T230000Z
DTEND:20190328T010000Z
X-MICROSOFT-CDO-ALLDAYEVENT:FALSE
SUMMARY:Chamber Mixer with the Port of Seattle
DESCRIPTION:Join the Port of Seattle and other chamber members for our March Mixer at the Aloft Hotel in SeaTac.\n\n\n\n Come and hear the latest from Jim Peterson\, the Port of Seattle's Senior Manager of Customer Experience and Communications. Jim will talk about the efforts\, both seen and unseen\, his department is spearheading to make your visit through Sea-Tac Airport a positive\, seamless travel experience.\n\n\n\nChamber Mixers are on the 4th Wednesday of every month from 4pm-6pm.
X-ALT-DESC;FMTTYPE=text/html:Join the Port of Seattle and other chamber members for our March Mixer at the Aloft Hotel in SeaTac.<br />\n<br />\n&nbsp\;Come and hear the latest from Jim Peterson\, the Port of Seattle&rsquo\;s Senior Manager of Customer Experience and Communications.&nbsp\;Jim will talk about the efforts\, both seen and unseen\, his department is spearheading to make your visit through Sea-Tac Airport a positive\, seamless travel experience.<br />\n<br />\nChamber Mixers are on the 4th Wednesday of every month from&nbsp\;4pm-6pm.
LOCATION:Aloft Seattle Seatac Airport 19030 28th Ave S. SeaTac\, WA 98188
UID:e.2591.2736
SEQUENCE:3
DTSTAMP:20260424T093834Z
URL:http://seattlesouthsidechamber.com/events/details/chamber-mixer-with-the-port-of-seattle-2736
END:VEVENT

END:VCALENDAR
