BEGIN:VCALENDAR
VERSION:2.0
PRODID:-//ChamberMaster//Event Calendar 2.0//EN
METHOD:PUBLISH
X-PUBLISHED-TTL:P3D
REFRESH-INTERVAL:P3D
CALSCALE:GREGORIAN
BEGIN:VEVENT
DTSTART:20170823T230000Z
DTEND:20170824T010000Z
X-MICROSOFT-CDO-ALLDAYEVENT:FALSE
SUMMARY:Chamber Mixer with Freedom Snacks and DAL Law Firm
DESCRIPTION:Join us at a fun and laid-back Chamber Mixer hosted by  Freedom Snacks and DAL Law Firm in Normandy Park \n\n\n\nAll Chamber Mixers are held on the 4th Wednesday of every month from 4pm-6pm.\n\n\n\nDAL Law Firm in the door to the immediate right of Freedom Snacks. You can take the stairs or the elevator to DAL Law Firm.
X-ALT-DESC;FMTTYPE=text/html:<span style="font-size: 10.5pt\; line-height: 14.98px\; font-family: Arial\, sans-serif\;">Join&nbsp\;us at a fun and laid-back Chamber Mixer hosted<span class="apple-converted-space">&nbsp\;</span></span>by &nbsp\;Freedom Snacks and DAL Law Firm in Normandy Park&nbsp\;<br />\n<br />\n<span style="font-family: arial\, sans-serif\;"><span style="font-size: 10.5pt\;">All Chamber Mixers are held on the 4th Wednesday of every month from&nbsp\;</span></span><span style="font-family: arial\, sans-serif\;"><span style="font-size: 10pt\;">4pm-6pm</span></span><span style="font-family: arial\, sans-serif\;"><span style="font-size: 10.5pt\;">.<br />\n<br />\nDAL Law Firm in the door to the immediate right of Freedom Snacks. You can take the stairs or the elevator to DAL Law Firm.&nbsp\;</span></span>
LOCATION:DAL LAW Firm 19803 1st Ave S. Ste 200 Normandy Park\, WA 98148
UID:e.2591.784
SEQUENCE:3
DTSTAMP:20260425T153152Z
URL:http://seattlesouthsidechamber.com/events/details/chamber-mixer-with-freedom-snacks-and-dal-law-firm-784
END:VEVENT

END:VCALENDAR
