BEGIN:VCALENDAR
VERSION:2.0
PRODID:-//ChamberMaster//Event Calendar 2.0//EN
METHOD:PUBLISH
X-PUBLISHED-TTL:P3D
REFRESH-INTERVAL:P3D
CALSCALE:GREGORIAN
BEGIN:VEVENT
DTSTART:20170426T230000Z
DTEND:20170427T010000Z
X-MICROSOFT-CDO-ALLDAYEVENT:FALSE
SUMMARY:Chamber Mixer - via Marina Wood Fired Pizza & Italian Cafe
DESCRIPTION:Join us at a fun and laid-back Chamber Mixer hosted by via Marina Wood Fired Pizza & Italian Cafe\n\n\n\nAll Chamber Mixers are held on the 4th Wednesday of every month from 4pm-6pm.
X-ALT-DESC;FMTTYPE=text/html:<span style="font-size: 10.5pt\; line-height: 107%\; font-family: Arial\, sans-serif\;">Join&nbsp\;us at a fun and laid-back Chamber Mixer hosted<span class="apple-converted-space">&nbsp\;</span></span>by via Marina Wood Fired Pizza &amp\; Italian Cafe<br />\n<br />\n<span style="font-size: 10.5pt\; line-height: 107%\; font-family: Arial\, sans-serif\;">All Chamber Mixers are held on the 4th Wednesday of every month from&nbsp\;</span><span class="scayt-misspell-word"><span style="font-size: 10pt\; line-height: 107%\; font-family: Arial\, sans-serif\;">4pm-6pm</span></span><span style="font-size: 10.5pt\; line-height: 107%\; font-family: Arial\, sans-serif\;">.</span>
LOCATION:22636 Marine View Dr. S. Des Moines\, WA 98198
UID:e.2591.612
SEQUENCE:3
DTSTAMP:20260425T220404Z
URL:http://seattlesouthsidechamber.com/events/details/chamber-mixer-via-marina-wood-fired-pizza-italian-cafe-612
END:VEVENT

END:VCALENDAR
