BEGIN:VCALENDAR
VERSION:2.0
PRODID:-//ChamberMaster//Event Calendar 2.0//EN
METHOD:PUBLISH
X-PUBLISHED-TTL:P3D
REFRESH-INTERVAL:P3D
CALSCALE:GREGORIAN
BEGIN:VEVENT
DTSTART:20190124T000000Z
DTEND:20190124T020000Z
X-MICROSOFT-CDO-ALLDAYEVENT:FALSE
SUMMARY:Chamber Mixer at Residence Inn
DESCRIPTION:Join us at Residence Inn- Seattle SeaTac Airport in SeaTac for the Chamber's January Mixer! It will be the perfect place to network and make new connections in the Business and Chamber Community for 2019.\n\n\n\n\n\nAll Chamber Mixers are held on the 4th Wednesday of every month from 4pm-6pm.
X-ALT-DESC;FMTTYPE=text/html:Join us at Residence Inn- Seattle SeaTac Airport in SeaTac for the Chamber&#39\;s January Mixer! It will be the perfect place to network and make new connections in the Business and Chamber Community for 2019.<br />\n<br />\n<br />\nAll Chamber Mixers are held on the&nbsp\;4th&nbsp\;Wednesday of every month from&nbsp\;4pm-6pm.
LOCATION:Residence Inn- Seattle SeaTac Airport 19608 International Blvd SeaTac\, WA 98188
UID:e.2591.2722
SEQUENCE:3
DTSTAMP:20260424T112005Z
URL:http://seattlesouthsidechamber.com/events/details/chamber-mixer-at-residence-inn-2722
END:VEVENT

END:VCALENDAR
