BEGIN:VCALENDAR
VERSION:2.0
PRODID:-//ChamberMaster//Event Calendar 2.0//EN
METHOD:PUBLISH
X-PUBLISHED-TTL:P3D
REFRESH-INTERVAL:P3D
CALSCALE:GREGORIAN
BEGIN:VEVENT
DTSTART:20170322T230000Z
DTEND:20170323T000000Z
X-MICROSOFT-CDO-ALLDAYEVENT:FALSE
SUMMARY:Chamber Mixer at Medzo Gelato Bar and Travel Cafe
DESCRIPTION:Join us at a fun and laid-back Chamber Mixer hosted by Medzo Gelato Bar and Travel Cafe\n\n\n\nAll Chamber Mixers are held on the 4th Wednesday of every month from 4pm-6pm.
X-ALT-DESC;FMTTYPE=text/html:<span style="font-family: arial\; font-size: 14px\;">Join&nbsp\;us at a fun and laid-back Chamber Mixer hosted </span><span style="font-family: arial\; font-size: 14px\;">by&nbsp\;</span>Medzo Gelato Bar and Travel Cafe<br style="font-family: arial\; font-size: 14px\;" />\n<br style="color: rgb(133\, 149\, 163)\; font-family: verdana\, sans-serif\; font-size: 13.3333px\;" />\n<span style="font-family: arial\; font-size: 14px\;">All Chamber Mixers are held on the 4th Wednesday of every month from&nbsp\;</span>4pm-6pm<span style="font-family: arial\; font-size: 14px\;">.</span>
LOCATION:917 SW 152nd Street Burien\, WA 98148
UID:e.2591.610
SEQUENCE:3
DTSTAMP:20260426T011716Z
URL:http://seattlesouthsidechamber.com/events/details/chamber-mixer-at-medzo-gelato-bar-and-travel-cafe-610
END:VEVENT

END:VCALENDAR
