BEGIN:VCALENDAR
VERSION:2.0
PRODID:-//ChamberMaster//Event Calendar 2.0//EN
METHOD:PUBLISH
X-PUBLISHED-TTL:P3D
REFRESH-INTERVAL:P3D
CALSCALE:GREGORIAN
BEGIN:VEVENT
DTSTART:20170126T000000Z
DTEND:20170126T020000Z
X-MICROSOFT-CDO-ALLDAYEVENT:FALSE
SUMMARY:Chamber Mixer at Hudson's Portrait Design
DESCRIPTION:Join us at Hudson's Portrait Design's studio in Tukwila for the Chamber's January Mixer! It will be the perfect place to network and make new contacting in the Business and Chamber Community for 2017. \n\n\n\nAll Chamber Mixers are held on the 4th Wednesday of every month from 4pm-6pm.
X-ALT-DESC;FMTTYPE=text/html:Join us at Hudson&#39\;s Portrait Design&#39\;s studio in Tukwila for the Chamber&#39\;s January Mixer! It will be the perfect place to network and make new contacting in the Business and Chamber Community for 2017.&nbsp\;<br />\n<br />\nAll Chamber Mixers are held on the 4th Wednesday of every month from 4pm-6pm.
LOCATION:Hudson Portrait Design 641 Strander Blvd. Tukwila\, WA 98188
UID:e.2591.563
SEQUENCE:3
DTSTAMP:20260426T032212Z
URL:http://seattlesouthsidechamber.com/events/details/chamber-mixer-at-hudson-s-portrait-design-563
END:VEVENT

END:VCALENDAR
