BEGIN:VCALENDAR
VERSION:2.0
PRODID:-//ChamberMaster//Event Calendar 2.0//EN
METHOD:PUBLISH
X-PUBLISHED-TTL:P3D
REFRESH-INTERVAL:P3D
CALSCALE:GREGORIAN
BEGIN:VEVENT
DTSTART:20170726T230000Z
DTEND:20170727T010000Z
X-MICROSOFT-CDO-ALLDAYEVENT:FALSE
SUMMARY:Chamber Mixer at El Dorado West
DESCRIPTION:Join us at a fun and laid-back Chamber Mixer sponsored by Wells Fargo. July's Mixer will be held at El Dorado West Retirement Community. They are preparing entertainment\, food and beverages. We'll also be meeting inside but will also have access to their patio. \n\n\n\n\n\nAll Chamber Mixers are held on the 4th Wednesday of every month from 4pm-6pm.
X-ALT-DESC;FMTTYPE=text/html:<span style="font-size:16px\;"><span style="font-family: arial\;">Join&nbsp\;us at a fun and laid-back Chamber Mixer sponsored by Wells Fargo. July&#39\;s Mixer will be held at El Dorado West Retirement Community.&nbsp\;</span><span style="color:#41291E\;"><span style="font-family:arial\,sans-serif\;">They are preparing entertainment\, food and beverages. We&#39\;ll also be meeting inside but will also have access to their patio.&nbsp\;</span></span><br />\n<br style="font-family: arial\; font-size: 14px\;" />\n<br style="color: rgb(133\, 149\, 163)\; font-family: verdana\, sans-serif\; font-size: 13.3333px\;" />\n<span style="font-family: arial\;">All Chamber Mixers are held on the 4th Wednesday of every month from&nbsp\;</span>4pm-6pm<span style="font-family: arial\;">.</span></span>
LOCATION:El Dorado West Retirement Community 1010 SW 134th ST Burien\, WA 98146
UID:e.2591.635
SEQUENCE:3
DTSTAMP:20260425T184830Z
URL:http://seattlesouthsidechamber.com/events/details/chamber-mixer-at-el-dorado-west-635
END:VEVENT

END:VCALENDAR
