BEGIN:VCALENDAR
VERSION:2.0
PRODID:-//ChamberMaster//Event Calendar 2.0//EN
METHOD:PUBLISH
X-PUBLISHED-TTL:P3D
REFRESH-INTERVAL:P3D
CALSCALE:GREGORIAN
BEGIN:VEVENT
DTSTART:20190228T000000Z
DTEND:20190228T020000Z
X-MICROSOFT-CDO-ALLDAYEVENT:FALSE
SUMMARY:Chamber Mixer at El Dorado West
DESCRIPTION:Join us at El Dorado West for the Chamber's February Mixer! It will be the perfect place to network and make new contacts in the Business and Chamber Community.\n\n\n\nChamber Mixers are on the 4th Wednesday of every month from 4pm-6pm.
X-ALT-DESC;FMTTYPE=text/html:Join us at El Dorado West&nbsp\;for the Chamber&#39\;s February Mixer! It will be the perfect place to network and make new contacts in the Business and Chamber Community.<br />\n<br />\nChamber Mixers are on the 4th Wednesday of every month from&nbsp\;4pm-6pm.
LOCATION:El Dorado West Retirement Community 1010 SW 134th ST Burien\, WA 98146
UID:e.2591.2670
SEQUENCE:3
DTSTAMP:20260424T093617Z
URL:http://seattlesouthsidechamber.com/events/details/chamber-mixer-at-el-dorado-west-2670
END:VEVENT

END:VCALENDAR
