BEGIN:VCALENDAR
VERSION:2.0
PRODID:-//ChamberMaster//Event Calendar 2.0//EN
METHOD:PUBLISH
X-PUBLISHED-TTL:P3D
REFRESH-INTERVAL:P3D
CALSCALE:GREGORIAN
BEGIN:VEVENT
DTSTART:20170223T000000Z
DTEND:20170223T020000Z
X-MICROSOFT-CDO-ALLDAYEVENT:FALSE
SUMMARY:Chamber Mixer at Courtyard by Marriott Seattle SeaTac
DESCRIPTION:Join us at a fun and laid-back Chamber Mixer hosted by the Courtyard by Marriott Seattle SeaTac in Tukwila.  We will be meeting in their restaurant Charley's.\n\n\n\nAll Chamber Mixers are held on the 4th Wednesday of every month from 4pm-6pm.
X-ALT-DESC;FMTTYPE=text/html:<p><span style="font-size:14px\;"><span style="font-family:arial\;">Join us at a fun and laid-back Chamber Mixer hosted by&nbsp\;the Courtyard by Marriott Seattle SeaTac in Tukwila. &nbsp\;We will be meeting in their restaurant&nbsp\;Charley&#39\;s.<br />\n<br style="color: rgb(133\, 149\, 163)\; font-family: verdana\, sans-serif\; font-size: 13.3333px\;" />\nAll Chamber Mixers are held on the 4th Wednesday of every month from&nbsp\;4pm-6pm.</span></span></p>\n
LOCATION:The Courtyard by Marriott is located directly off West Valley Highway\, and right next door to Embassy Suites. 16038 W Valley Hwy Tukwila\, WA 98188
UID:e.2591.579
SEQUENCE:3
DTSTAMP:20260426T014027Z
URL:http://seattlesouthsidechamber.com/events/details/chamber-mixer-at-courtyard-by-marriott-seattle-seatac-579
END:VEVENT

END:VCALENDAR
