BEGIN:VCALENDAR
VERSION:2.0
PRODID:-//ChamberMaster//Event Calendar 2.0//EN
METHOD:PUBLISH
X-PUBLISHED-TTL:P3D
REFRESH-INTERVAL:P3D
CALSCALE:GREGORIAN
BEGIN:VEVENT
DTSTART:20170524T230000Z
DTEND:20170525T010000Z
X-MICROSOFT-CDO-ALLDAYEVENT:FALSE
SUMMARY:Chamber Mixer at Basil's Kitchen and Embassy Suites
DESCRIPTION:Join us at a fun and laid-back Chamber Mixer hosted by Basil's Kitchen and Embassy Suites
X-ALT-DESC;FMTTYPE=text/html:<span style="font-size: 10.5pt\; line-height: 107%\; font-family: Arial\, sans-serif\;">Join&nbsp\;us at a fun and laid-back Chamber Mixer hosted<span class="apple-converted-space">&nbsp\;</span></span>by Basil&#39\;s Kitchen and Embassy Suites
LOCATION:Basil's Kitchen and Embassy Suites are located: 15920 W Valley Hwy Tukwila\, WA 98188
UID:e.2591.614
SEQUENCE:3
DTSTAMP:20260425T204124Z
URL:http://seattlesouthsidechamber.com/events/details/chamber-mixer-at-basil-s-kitchen-and-embassy-suites-614
END:VEVENT

END:VCALENDAR
