BEGIN:VCALENDAR
VERSION:2.0
PRODID:-//ChamberMaster//Event Calendar 2.0//EN
METHOD:PUBLISH
X-PUBLISHED-TTL:P3D
REFRESH-INTERVAL:P3D
CALSCALE:GREGORIAN
BEGIN:VEVENT
DTSTART:20190522T230000Z
DTEND:20190523T010000Z
X-MICROSOFT-CDO-ALLDAYEVENT:FALSE
SUMMARY:Chamber Mixer at Audiobook Ministries
DESCRIPTION:Join us at Audiobook Ministries for the Chamber's May Mixer and Breakfast After Hours! It will be the perfect place to network and make new contacts in the Business and Chamber Community.\n\n\n\n\n\nChamber Mixers are on the 4th Wednesday of every month from 4pm-6pm.\n\n\n\nAudiobook Ministries is a non-profit\, non-denominational library of spiritually uplifting\, inspiring\, wholesome books and devotionals loaned free of charge to persons with visual or other disabilities
X-ALT-DESC;FMTTYPE=text/html:Join us at Audiobook Ministries for the Chamber&#39\;s May Mixer and Breakfast After Hours! It will be the perfect place to network and make new contacts in the Business and Chamber Community.<br />\n<br />\n<br />\nChamber Mixers are on the 4th Wednesday of every month from&nbsp\;4pm-6pm.<br />\n<br />\nAudiobook Ministries is a non-profit\, non-denominational library of spiritually uplifting\, inspiring\, wholesome books and devotionals loaned free of charge to persons with visual or other disabilities
LOCATION:Audiobook Ministries 840 S 192nd ST Seattle\, WA 98148 Parking is available on the field next to the ABM Office\, and will be clearly marked.
UID:e.2591.2770
SEQUENCE:3
DTSTAMP:20260424T044612Z
URL:http://seattlesouthsidechamber.com/events/details/chamber-mixer-at-audiobook-ministries-2770
END:VEVENT

END:VCALENDAR
