BEGIN:VCALENDAR
VERSION:2.0
PRODID:-//ChamberMaster//Event Calendar 2.0//EN
METHOD:PUBLISH
X-PUBLISHED-TTL:P3D
REFRESH-INTERVAL:P3D
CALSCALE:GREGORIAN
BEGIN:VEVENT
DTSTART:20181024T230000Z
DTEND:20181025T010000Z
X-MICROSOFT-CDO-ALLDAYEVENT:FALSE
SUMMARY:Celebration of Women in Business
DESCRIPTION:You're invited to join the Chamber at our annual Celebration of Women In Business event. Supporting women in leadership and business is not a woman's issue\; it's a business issue\, and we need all hands on deck.\n\n\n\nEveryone is welcome as we gather together to commit ourselves and our community to mentor\, encourage and celebrate women who have and will lead our local economy and community. Congressman Adam Smith and Andrea Reay will be facilitating a panel discussion about working in the post #metoo workplace and how we can all work towards building better and more inclusive workplaces.\n\n\n\nThank you to our host\, Anthony's Homeport\, and to our event sponsors Crain Photography and South King Media.
X-ALT-DESC;FMTTYPE=text/html:<div data-block="true" data-editor="8fo4" data-offset-key="ocmo-0-0" style="font-family: Helvetica\, Arial\, sans-serif\; color: rgb(29\, 33\, 41)\; font-size: 12px\; white-space: pre-wrap\;">\n<div class="_1mf _1mj" data-offset-key="ocmo-0-0" style="position: relative\; direction: ltr\; font-family: inherit\;"><span style="font-size:14px\;"><span data-offset-key="ocmo-0-0">You&#39\;re invited to join the Chamber at our annual Celebration of Women In Business event. Supporting women in leadership and business is not a woman&rsquo\;s issue\; it&rsquo\;s a business issue\, and we need all hands on deck.</span></span><br />\n<br />\n<span style="font-size:14px\;"><span data-offset-key="8n3dh-0-0">Everyone is welcome as we gather together to commit ourselves and our community to mentor\, encourage and celebrate women who have and will lead our local economy and community. Congressman Adam Smith </span><span data-offset-key="8n3dh-2-0">and Andrea Reay will be facilitating a panel discussion about working in the post #metoo</span><span data-offset-key="8n3dh-4-0"> workplace and how we can all work towards building better and more inclusive workplaces.</span></span><br />\n<br />\n<span style="color: rgb(33\, 33\, 33)\; font-size: 14px\; font-family: sans-serif\, Arial\, Verdana\, &quot\;Trebuchet MS&quot\;\;">Thank you to our host\, Anthony&#39\;s Homeport\, and to our event sponsors Crain Photography and South King Media.</span></div>\n</div>\n
LOCATION:Anthony's Homeport 421 S 227th ST Des Moines\, WA 98198
UID:e.2591.2487
SEQUENCE:3
DTSTAMP:20260424T160446Z
URL:http://seattlesouthsidechamber.com/events/details/celebration-of-women-in-business-2487
END:VEVENT

END:VCALENDAR
