BEGIN:VCALENDAR
VERSION:2.0
PRODID:-//ChamberMaster//Event Calendar 2.0//EN
METHOD:PUBLISH
X-PUBLISHED-TTL:P3D
REFRESH-INTERVAL:P3D
CALSCALE:GREGORIAN
BEGIN:VEVENT
DTSTART:20190215T010000Z
DTEND:20190215T050000Z
X-MICROSOFT-CDO-ALLDAYEVENT:FALSE
SUMMARY:Cedarbrook Lodge Valentine's Day Dinner
DESCRIPTION:Celebrate the day of romance with the ultimate dining experience. Show that special someone how much they mean to you with a five-course dinner featuring Cured Duck Bresaola\, Brown Butter Basted Sea Scallops\, and many more love-filled dishes. Finish your evening with a sweet sensation to top off the perfect dinner date!
X-ALT-DESC;FMTTYPE=text/html:Celebrate the day of romance with the ultimate dining experience. Show that special someone how much they mean to you with a five-course dinner featuring Cured Duck Bresaola\, Brown Butter Basted Sea Scallops\, and many more love-filled dishes. Finish your evening with a sweet sensation to top off the perfect dinner date!
LOCATION:Cedarbrook Lodge-Copperleaf Restaurant 18525 36th Avenue South Seatac\, WA 98188
UID:e.2591.2763
SEQUENCE:3
DTSTAMP:20260424T123027Z
URL:http://seattlesouthsidechamber.com/events/details/cedarbrook-lodge-valentine-s-day-dinner-2763
END:VEVENT

END:VCALENDAR
