BEGIN:VCALENDAR
VERSION:2.0
PRODID:-//ChamberMaster//Event Calendar 2.0//EN
METHOD:PUBLISH
X-PUBLISHED-TTL:P3D
REFRESH-INTERVAL:P3D
CALSCALE:GREGORIAN
BEGIN:VEVENT
DTSTART;VALUE=DATE:20181122
DTEND;VALUE=DATE:20181123
TRANSP:TRANSPARENT
X-MICROSOFT-CDO-ALLDAYEVENT:TRUE
SUMMARY:Cedarbrook Lodge Thanksgiving Dinner-Copperleaf Restaurant
DESCRIPTION:Let Cedarbrook Lodge take care of Thanksgiving dinner this year\, and gather around a cozy table in Copperleaf Restaurant. With seasonal\, farm-to-table cuisine\, plenty of roasted turkey\, and perfect wine pairings\, it's never been easier to enjoy Thanksgiving to the fullest.
X-ALT-DESC;FMTTYPE=text/html:<span style="color: rgb(115\, 115\, 115)\; font-family: gill-book\, sans-serif\; font-size: 17px\; text-align: center\;">Let Cedarbrook Lodge take care of Thanksgiving dinner this year\, and gather around a cozy table in Copperleaf Restaurant. With seasonal\, farm-to-table cuisine\, plenty of roasted turkey\, and perfect wine pairings\, it&#39\;s never been easier to enjoy Thanksgiving to the fullest.</span>
LOCATION:Cedarbrook Lodge-Copperleaf Restaurant 18525 36TH AVENUE SOUTH SEATAC\, WA 98188
UID:e.2591.2627
SEQUENCE:3
DTSTAMP:20260424T172945Z
URL:http://seattlesouthsidechamber.com/events/details/cedarbrook-lodge-thanksgiving-dinner-copperleaf-restaurant-2627
END:VEVENT

END:VCALENDAR
