BEGIN:VCALENDAR
VERSION:2.0
PRODID:-//ChamberMaster//Event Calendar 2.0//EN
METHOD:PUBLISH
X-PUBLISHED-TTL:P3D
REFRESH-INTERVAL:P3D
CALSCALE:GREGORIAN
BEGIN:VEVENT
DTSTART:20170720T220000Z
DTEND:20170724T050000Z
X-MICROSOFT-CDO-ALLDAYEVENT:FALSE
SUMMARY:CARNIVAL DAYS & BALLOON GLOW JUST NORTH OF 1st Ave & SW 128th
DESCRIPTION:Join Discover Burien for Carnival Days and Balloon Glow in Puget Sound Park. Thursday 3 pm to 10pm (Balloon Glow)\, Friday 3 pm to 10pm\, Saturday 12 noon to 10pm\, Sunday 12 noon to 10pm.
X-ALT-DESC;FMTTYPE=text/html:Join Discover Burien for&nbsp\;<span style="font-family: &quot\;Open Sans&quot\;\, Arial\, sans-serif\; background-color: rgb(244\, 244\, 242)\;">Carnival Days and Balloon Glow in Puget Sound Park. Thursday 3 pm to 10pm (Balloon Glow)\, Friday 3 pm to 10pm\, Saturday 12 noon&nbsp\;to 10pm\, Sunday 12 noon&nbsp\;to 10pm.</span>
LOCATION:Location: 1st Ave & SW 126th (1st Ave & SW 126th SW)1st Ave & SW 128th (1st Ave & SW 128th) Puget Sound Park\, 1st Ave & SW 128th Call: 206-433-2882
UID:e.2591.849
SEQUENCE:3
DTSTAMP:20260425T200849Z
URL:http://seattlesouthsidechamber.com/events/details/carnival-days-balloon-glow-just-north-of-1st-ave-sw-128th-849
END:VEVENT

END:VCALENDAR
