BEGIN:VCALENDAR
VERSION:2.0
PRODID:-//ChamberMaster//Event Calendar 2.0//EN
METHOD:PUBLISH
X-PUBLISHED-TTL:P3D
REFRESH-INTERVAL:P3D
CALSCALE:GREGORIAN
BEGIN:VEVENT
DTSTART:20171130T220000Z
DTEND:20171201T000000Z
X-MICROSOFT-CDO-ALLDAYEVENT:FALSE
SUMMARY:Business Roundtable with King county Council Member Dave Upthegrove
DESCRIPTION:Please join us as we partner with the Seattle Metro Chamber to bring you a special small business roundtable with King County Council Member Dave Upthegrove.\n\n\n\nJoin us for coffee\, cookies and conversation with the council member at the Courtyard by Marriott Seattle SeaTac-16038 West Valley Hwy in Tukwila as we discuss the issues that matter most to you\, our small business owners\, managers and employees. FREE for members. Hope to see you there! Space is limited to 30 so please register early to secure your seat.\n\n\n\nRegister Here: https://www.seattlechamber.com/home/events/events-detail/2017/11/30/default-calendar/business-roundtable-with-king-county-councilmember-upthegrove?regtype=invitee&LoginPrompted=True&RegAsNonMember=True#registrationTabs
X-ALT-DESC;FMTTYPE=text/html:Please join us as we partner with the Seattle Metro Chamber to bring you a special small business roundtable with King County Council Member Dave Upthegrove.<br />\n<br />\nJoin us for coffee\, cookies and conversation with the council member at the Courtyard by Marriott Seattle SeaTac-16038 West Valley Hwy in Tukwila as we discuss the issues that matter most to you\, our small business owners\, managers and employees. FREE for members. Hope to see you there! Space is limited to 30 so please register early to secure your seat.<br />\n<br />\nRegister Here:&nbsp\;<span style="font-family:calibri\,sans-serif\;"><span style="font-size:11.0pt\;"><a href="https://www.seattlechamber.com/home/events/events-detail/2017/11/30/default-calendar/business-roundtable-with-king-county-councilmember-upthegrove?regtype=invitee&amp\;LoginPrompted=True&amp\;RegAsNonMember=True#registrationTabs">https://www.seattlechamber.com/home/events/events-detail/2017/11/30/default-calendar/business-roundtable-with-king-county-councilmember-upthegrove?regtype=invitee&amp\;LoginPrompted=True&amp\;RegAsNonMember=True#registrationTabs</a></span></span>
LOCATION:Courtyard by Marriott Seattle SeaTac-16038 West Valley Hwy in Tukwila
UID:e.2591.1004
SEQUENCE:3
DTSTAMP:20260425T104112Z
URL:http://seattlesouthsidechamber.com/events/details/business-roundtable-with-king-county-council-member-dave-upthegrove-1004
END:VEVENT

END:VCALENDAR
