BEGIN:VCALENDAR
VERSION:2.0
PRODID:-//ChamberMaster//Event Calendar 2.0//EN
METHOD:PUBLISH
X-PUBLISHED-TTL:P3D
REFRESH-INTERVAL:P3D
CALSCALE:GREGORIAN
BEGIN:VEVENT
DTSTART:20190306T180000Z
DTEND:20190306T200000Z
X-MICROSOFT-CDO-ALLDAYEVENT:FALSE
SUMMARY:Business and Student Matchmaking Event-Highline College
DESCRIPTION:Organizations engaged in international activities looking for new talent are encouraged to attend the annual Business and Student Matchmaking event on Wednesday\, March 6\, 2018\, hosted by the Center of\n\nExcellence for Global Trade & Supply Chain Management at Highline College.\n\nThe event is aimed at creating a networking platform for business and international trade students. Attendees will be introduced to each other and will participate in a 'speed networking' activity focused on internships and jobs.
X-ALT-DESC;FMTTYPE=text/html:Organizations engaged in international activities looking for new talent are encouraged to attend the annual Business and Student Matchmaking event on Wednesday\, March 6\, 2018\, hosted by the Center of<br />\nExcellence for Global Trade &amp\; Supply Chain Management at Highline College.<br />\nThe event is aimed at creating a networking platform for business and international trade students. Attendees will be introduced to each other and will participate in a &#39\;speed networking&#39\; activity focused on internships and jobs.
LOCATION:Highline College-Building 2 2400 South 240th Street Des Moines\, WA 98198
UID:e.2591.2834
SEQUENCE:3
DTSTAMP:20260424T122711Z
URL:http://seattlesouthsidechamber.com/events/details/business-and-student-matchmaking-event-highline-college-2834
END:VEVENT

END:VCALENDAR
