BEGIN:VCALENDAR
VERSION:2.0
PRODID:-//ChamberMaster//Event Calendar 2.0//EN
METHOD:PUBLISH
X-PUBLISHED-TTL:P3D
REFRESH-INTERVAL:P3D
CALSCALE:GREGORIAN
BEGIN:VEVENT
DTSTART:20180805T210000Z
DTEND:20180806T000000Z
X-MICROSOFT-CDO-ALLDAYEVENT:FALSE
SUMMARY:Burien Public Art Walk-n-Talk
DESCRIPTION:Walkers and art lovers alike are invited to join in Burien's eighth annual Walk-n-Talk. After meeting at the Community Center Annex Park\, the group will walk about 1.75 miles discussing local art of all kinds. Bring your walking shoes and your water bottles! Dogs are welcome\, too.
X-ALT-DESC;FMTTYPE=text/html:Walkers and art lovers alike are invited to join in Burien&#39\;s eighth annual Walk-n-Talk. After meeting at the Community Center Annex Park\, the group will walk about 1.75 miles discussing local art of all kinds. Bring your walking shoes and your water bottles! Dogs are welcome\, too.
LOCATION:"We will start at the Community Center Annex\, walking from number 1 8\, then to The Maverick and Merrill Gardens\, then on to 9 20. As we come back around through town\, we'll walk through "Art Alley" between SW 152nd and 153rd Streets\, from 6th Ave. to 4th Ave."
UID:e.2591.2168
SEQUENCE:3
DTSTAMP:20260424T221006Z
URL:http://seattlesouthsidechamber.com/events/details/burien-public-art-walk-n-talk-2168
END:VEVENT

END:VCALENDAR
