BEGIN:VCALENDAR
VERSION:2.0
PRODID:-//ChamberMaster//Event Calendar 2.0//EN
METHOD:PUBLISH
X-PUBLISHED-TTL:P3D
REFRESH-INTERVAL:P3D
CALSCALE:GREGORIAN
BEGIN:VEVENT
DTSTART:20180927T153000Z
DTEND:20180927T170000Z
X-MICROSOFT-CDO-ALLDAYEVENT:FALSE
SUMMARY:Burien Police Coffee with a Cop
DESCRIPTION:Join the Burien Police Department for 'Coffee with a Cop' this Thursday morning\, hosted by the Burien Police Department and the City of Burien Government.\n\n"Here's your chance to ask questions\, share comments or concerns\, and get to know your local police."
X-ALT-DESC;FMTTYPE=text/html:<p style="padding: 0px 0px 10px\; margin: 0px\; font-family: Arial\, Tahoma\, Verdana\; font-size: 12px\;"><strong>Join the Burien Police Department for &lsquo\;Coffee with a Cop&rsquo\; this Thursday morning\, hosted by the Burien Police Department and the City of Burien Government.</strong></p>\n\n<p style="padding: 0px 0px 10px\; margin: 0px\; font-family: Arial\, Tahoma\, Verdana\; font-size: 12px\;">&ldquo\;Here&rsquo\;s your chance to ask questions\, share comments or concerns\, and get to know your local police.&rdquo\;</p>\n
LOCATION:Starbucks located near the Burien Plaza 16 SW 148th St\, Burien\, WA 98166
UID:e.2591.2540
SEQUENCE:3
DTSTAMP:20260424T220805Z
URL:http://seattlesouthsidechamber.com/events/details/burien-police-coffee-with-a-cop-2540
END:VEVENT

END:VCALENDAR
