BEGIN:VCALENDAR
VERSION:2.0
PRODID:-//ChamberMaster//Event Calendar 2.0//EN
METHOD:PUBLISH
X-PUBLISHED-TTL:P3D
REFRESH-INTERVAL:P3D
CALSCALE:GREGORIAN
BEGIN:VEVENT
DTSTART:20181025T180000Z
DTEND:20181026T010000Z
X-MICROSOFT-CDO-ALLDAYEVENT:FALSE
SUMMARY:Burien Farmers Market
DESCRIPTION:Burien Farmers Market   every Thursday from the beginning of May through late October. The Burien Farmers Market has developed into a very successful market with 40 to 50 vendors each week. Vendors include a food booth\, handmade goods\, farm fresh products and fresh baked products. Vendors must meet the guidelines of "Washington State Farmers Markets".
X-ALT-DESC;FMTTYPE=text/html:Burien Farmers Market &ndash\; every Thursday from the beginning of May through late October. The Burien Farmers Market has developed into a very successful market with 40 to 50 vendors each week. Vendors include a food booth\, handmade goods\, farm fresh products and fresh baked products. Vendors must meet the guidelines of &ldquo\;Washington State Farmers Markets&rdquo\;.
LOCATION:Burien Town Square Park\, 5th and SW 152nd St\, Burien
UID:e.2591.2327
SEQUENCE:3
DTSTAMP:20260424T185738Z
URL:http://seattlesouthsidechamber.com/events/details/burien-farmers-market-10-25-2018-2327
END:VEVENT

END:VCALENDAR
