BEGIN:VCALENDAR
VERSION:2.0
PRODID:-//ChamberMaster//Event Calendar 2.0//EN
METHOD:PUBLISH
X-PUBLISHED-TTL:P3D
REFRESH-INTERVAL:P3D
CALSCALE:GREGORIAN
BEGIN:VEVENT
DTSTART;VALUE=DATE:20171001
DTEND;VALUE=DATE:20171002
TRANSP:TRANSPARENT
X-MICROSOFT-CDO-ALLDAYEVENT:TRUE
SUMMARY:Burien Brat Trot & Bavarian Festival
DESCRIPTION:he Burien Brat Trot is a flat and fast 5K and one mile race throughout the streets of Burien followed by the best street party around... Bavarian Fest--complete with beer gardens\, live bands\, pretzels\, sausage\, beer fraus\, bouncy toys\, food trucks\, cavorting\, and carousing! Proceeds of the event support Highline Schools Foundation.
X-ALT-DESC;FMTTYPE=text/html:he Burien Brat Trot is a flat and fast 5K and one mile race throughout the streets of Burien followed by the best street party around... Bavarian Fest--complete with beer gardens\, live bands\, pretzels\, sausage\, beer fraus\, bouncy toys\, food trucks\, cavorting\, and carousing! Proceeds of the event support Highline Schools Foundation.
LOCATION:Old Burien - 152nd St between 10th & 12th
UID:e.2591.857
SEQUENCE:3
DTSTAMP:20260425T153152Z
URL:http://seattlesouthsidechamber.com/events/details/burien-brat-trot-bavarian-festival-857
END:VEVENT

END:VCALENDAR
