BEGIN:VCALENDAR
VERSION:2.0
PRODID:-//ChamberMaster//Event Calendar 2.0//EN
METHOD:PUBLISH
X-PUBLISHED-TTL:P3D
REFRESH-INTERVAL:P3D
CALSCALE:GREGORIAN
BEGIN:VEVENT
DTSTART:20181003T010000Z
DTEND:20181003T023000Z
X-MICROSOFT-CDO-ALLDAYEVENT:FALSE
SUMMARY:Burien Arts Pop-up Art Gallery October Exhibit
DESCRIPTION:Works by Eric Faramus
X-ALT-DESC;FMTTYPE=text/html:<span style="color: rgb(56\, 56\, 56)\; font-family: &quot\;Open Sans&quot\;\, Arial\, sans-serif\; font-size: 14px\;">Works by Eric Faramus</span>
LOCATION:Burien Community Center\, 14700 6th Avenue SW\, Burien
UID:e.2591.2558
SEQUENCE:3
DTSTAMP:20260424T185409Z
URL:http://seattlesouthsidechamber.com/events/details/burien-arts-pop-up-art-gallery-october-exhibit-2558
END:VEVENT

END:VCALENDAR
