BEGIN:VCALENDAR
VERSION:2.0
PRODID:-//ChamberMaster//Event Calendar 2.0//EN
METHOD:PUBLISH
X-PUBLISHED-TTL:P3D
REFRESH-INTERVAL:P3D
CALSCALE:GREGORIAN
BEGIN:VEVENT
DTSTART:20181201T170000Z
DTEND:20181201T200000Z
X-MICROSOFT-CDO-ALLDAYEVENT:FALSE
SUMMARY:Brooks Holiday Fun Run Benefitting Mary's Place
DESCRIPTION:Join us for this fun holiday 3-mile family-friendly run benefiting Mary's Place No Child Sleeps Outside campaign! Put on your finest holly jolly gear\, lace up your shoes\, and join us for prizes\, food\, and fun! Early registration is $25\, or $30 at the door!
X-ALT-DESC;FMTTYPE=text/html:<p><span style="color:rgb(29\, 33\, 41)\; font-family:system-ui\,-apple-system\,blinkmacsystemfont\,.sfnstext-regular\,sans-serif\; font-size:14px">Join us for this fun holiday 3-mile family-friendly run benefiting Mary&#39\;s Place No Child Sleeps Outside campaign! Put on your finest holly jolly gear\, lace up your shoes\, and join us for prizes\, food\, and fun! Early registration is $25\, or $30 at the door!</span></p>\n
LOCATION:Brooks3400 Stone Way N Seattle
UID:e.2591.2634
SEQUENCE:3
DTSTAMP:20260424T155136Z
URL:http://seattlesouthsidechamber.com/events/details/brooks-holiday-fun-run-benefitting-mary-s-place-2634
END:VEVENT

END:VCALENDAR
