BEGIN:VCALENDAR
VERSION:2.0
PRODID:-//ChamberMaster//Event Calendar 2.0//EN
METHOD:PUBLISH
X-PUBLISHED-TTL:P3D
REFRESH-INTERVAL:P3D
CALSCALE:GREGORIAN
BEGIN:VEVENT
DTSTART;VALUE=DATE:20181208
DTEND;VALUE=DATE:20181209
TRANSP:TRANSPARENT
X-MICROSOFT-CDO-ALLDAYEVENT:TRUE
SUMMARY:Breakfast with Santa on Saturday December 8th
DESCRIPTION:Come enjoy breakfast with Santa. Hohohoho
X-ALT-DESC;FMTTYPE=text/html:<span style="font-family: LeagueGothicRegular\, &quot\;lucida sans unicode&quot\;\, &quot\;lucida grande&quot\;\, &quot\;Trebuchet MS&quot\;\, verdana\, arial\, helvetica\, helve\, sans-serif\; font-size: 18px\; background-color: rgb(251\, 251\, 251)\;">Come enjoy breakfast with Santa. Hohohoho</span>
LOCATION:Des Moines Activity Center 2045 S. 216th Street Des Moines\, WA 98198
UID:e.2591.2522
SEQUENCE:3
DTSTAMP:20260424T154834Z
URL:http://seattlesouthsidechamber.com/events/details/breakfast-with-santa-on-saturday-december-8th-2522
END:VEVENT

END:VCALENDAR
