BEGIN:VCALENDAR
VERSION:2.0
PRODID:-//ChamberMaster//Event Calendar 2.0//EN
METHOD:PUBLISH
X-PUBLISHED-TTL:P3D
REFRESH-INTERVAL:P3D
CALSCALE:GREGORIAN
BEGIN:VEVENT
DTSTART;VALUE=DATE:20181027
DTEND;VALUE=DATE:20181028
TRANSP:TRANSPARENT
X-MICROSOFT-CDO-ALLDAYEVENT:TRUE
SUMMARY:Boo in Burien and Creepy Crawlers Pub Crawl
DESCRIPTION:KIDS & FAMILIES - Come out for Boo In Burien on Saturday October 27th Noon to 4 pm. This is a Safe Trick-Or-Treat in our Downtown Burien Community. Other activities to include Kids Crafts\, Haunted House\, Wiener Dog Races\, Costume Dog Parade and CANDY!\n\n \n\nCREEPY CRAWLERS PUB CRAWL Sign up for the Pub Crawl Costume Contest with $1000 Grand Prize!!! You can sign up now to reserve your spot\, and we will e-mail you participating restaurants / bars as we get closer to the event
X-ALT-DESC;FMTTYPE=text/html:<p>KIDS &amp\; FAMILIES - Come out for Boo In Burien on Saturday October 27th Noon to 4 pm. This is a Safe Trick-Or-Treat in our Downtown Burien Community. Other activities to include Kids Crafts\, Haunted House\, Wiener Dog Races\, Costume Dog Parade and CANDY!</p>\n\n<p>&nbsp\;</p>\n\n<p>CREEPY CRAWLERS PUB CRAWL Sign up for the Pub Crawl Costume Contest with $1000 Grand Prize!!! You can sign up now to reserve your spot\, and we will e-mail you participating restaurants / bars as we get closer to the event</p>\n
LOCATION:152nd Street\, Burien\, WA 98166
UID:e.2591.2563
SEQUENCE:3
DTSTAMP:20260424T185658Z
URL:http://seattlesouthsidechamber.com/events/details/boo-in-burien-and-creepy-crawlers-pub-crawl-2563
END:VEVENT

END:VCALENDAR
