BEGIN:VCALENDAR
VERSION:2.0
PRODID:-//ChamberMaster//Event Calendar 2.0//EN
METHOD:PUBLISH
X-PUBLISHED-TTL:P3D
REFRESH-INTERVAL:P3D
CALSCALE:GREGORIAN
BEGIN:VEVENT
DTSTART:20181027T023000Z
DTEND:20181027T065500Z
X-MICROSOFT-CDO-ALLDAYEVENT:FALSE
SUMMARY:Boo Friday Benefiting Birthday Dreams Sponsored by the Renton Seahawkers Booster Club
DESCRIPTION:Join the fun at this Halloween Event that includes meeting some Seahawks Players Alumni\, a Costume Contest\, Great Music\, Dancing\, Delicious Appetizers\, and more ...To benefit "Birthday Dreams" a Renton Non-profit helping homeless kids celebrate their birthdays.\n\n\n\nSeahawks Alumni - Hall of Famer\, Walter Jones\, will be joining us!\n\n\n\n\n\n\n\n\nSeahawks Alumni - Nesby Glasgow will be there too!\n\nSeahawks Alumni - Jordan Babineaux will also be there!
X-ALT-DESC;FMTTYPE=text/html:<div font-size:="" font-variant-east-asian:="" font-variant-numeric:="" helvetica="" letter-spacing:="" line-height:="" margin:="" neue="" overflow:="" padding:="" vertical-align:="" width:="">\n<div>\n<div>\n<div>\n<div>\n<div>\n<section>\n<section>Join the fun at this Halloween Event that includes meeting some Seahawks Players Alumni\, a Costume Contest\, Great Music\, Dancing\, Delicious Appetizers\, and more ...To benefit &quot\;<strong>Birthday Dreams</strong>&quot\; a Renton Non-profit helping homeless kids celebrate their birthdays.<br />\n<br />\nSeahawks Alumni - Hall of Famer\, Walter Jones\, will be joining us!</section>\n</section>\n</div>\n</div>\n</div>\n</div>\n</div>\n</div>\n\n<p 0px="" 10px="" font-size:="" font-variant-east-asian:="" font-variant-numeric:="" helvetica="" letter-spacing:="" margin:="" neue="" padding:="">Seahawks Alumni - Nesby Glasgow will be there too!</p>\n\n<p 0px="" 10px="" font-size:="" font-variant-east-asian:="" font-variant-numeric:="" helvetica="" letter-spacing:="" margin:="" neue="" padding:="">Seahawks Alumni - Jordan Babineaux will also be there!</p>\n
LOCATION:Red Lion Hotel & Conference Center Renton 1 South Grady Way Renton\, WA 98057
UID:e.2591.2590
SEQUENCE:3
DTSTAMP:20260424T185924Z
URL:http://seattlesouthsidechamber.com/events/details/boo-friday-benefiting-birthday-dreams-sponsored-by-the-renton-seahawkers-booster-club-2590
END:VEVENT

END:VCALENDAR
