BEGIN:VCALENDAR
VERSION:2.0
PRODID:-//ChamberMaster//Event Calendar 2.0//EN
METHOD:PUBLISH
X-PUBLISHED-TTL:P3D
REFRESH-INTERVAL:P3D
CALSCALE:GREGORIAN
BEGIN:VEVENT
DTSTART:20190109T173000Z
DTEND:20190109T233000Z
X-MICROSOFT-CDO-ALLDAYEVENT:FALSE
SUMMARY:Blood Drive at Highline Medical Center
DESCRIPTION:Donors are needed for a Blood Drive on Wednesday\, Jan. 9 at Highline Medical Center.\n\nPlease\, sign-up online at: www.bloodworksnw.org or email: schedule@bloodworksnw.organd request a time to attend\, or you may call at 1-800-398-7888.\n\nWalk-ins welcome around scheduled appointments.\n\n\nWHAT: Blood Drive\n\nWHEN: Wednesday\, Jan. 9: 9:30 a\,m.   3:30 p.m. (closed for lunch break 11:30-12:30)\n\nWHERE: Highline Medical Center Somers Auditorium\, 16251 Sylvester Road SW\, Burien WA 98166\n\nRSVP: Please sign-up online at: www.bloodworksnw.org or email: schedule@bloodworksnw.org and request a time to attend\, or you may call at\n\n1-800-398-7888.\n\nWalk-ins welcome around scheduled appointments\n\n1-800-398-7888 | BloodworksNW.org
X-ALT-DESC;FMTTYPE=text/html:<p>Donors are needed for a Blood Drive on Wednesday\, Jan. 9 at Highline Medical Center.</p>\n\n<p>Please\, sign-up online at:&nbsp\;<a href="http://www.bloodworksnw.org/" rel="noopener" target="_blank">www.bloodworksnw.org</a>&nbsp\;or email:&nbsp\;<a href="mailto:schedule@bloodworksnw.org" rel="noopener" target="_blank">schedule@bloodworksnw.org</a>and request a time to attend\, or you may call at 1-800-398-7888.</p>\n\n<p>Walk-ins welcome around scheduled appointments.</p>\n\n<blockquote>\n<p>WHAT: Blood Drive</p>\n\n<p>WHEN: Wednesday\, Jan. 9: 9:30 a\,m. &ndash\; 3:30 p.m. (closed for lunch break 11:30-12:30)</p>\n\n<p>WHERE: Highline Medical Center Somers Auditorium\, 16251 Sylvester Road SW\, Burien WA 98166</p>\n\n<p>RSVP: Please sign-up online at:&nbsp\;<a href="http://www.bloodworksnw.org/" rel="noopener" target="_blank">www.bloodworksnw.org</a>&nbsp\;or email:&nbsp\;<a href="mailto:schedule@bloodworksnw.org" rel="noopener" target="_blank">schedule@bloodworksnw.org</a>&nbsp\;and request a time to attend\, or you may call at<br />\n1-800-398-7888.</p>\n\n<p>Walk-ins welcome around scheduled appointments</p>\n\n<p>1-800-398-7888 |&nbsp\;<a href="http://bloodworksnw.org/" rel="noopener" target="_blank">BloodworksNW.org</a></p>\n</blockquote>\n
LOCATION:Highline Medical Center-Somers Auditorium 16251 Sylvester Rd SW\, Burien\, WA 98166
UID:e.2591.2749
SEQUENCE:3
DTSTAMP:20260424T141210Z
URL:http://seattlesouthsidechamber.com/events/details/blood-drive-at-highline-medical-center-2749
END:VEVENT

END:VCALENDAR
