BEGIN:VCALENDAR
VERSION:2.0
PRODID:-//ChamberMaster//Event Calendar 2.0//EN
METHOD:PUBLISH
X-PUBLISHED-TTL:P3D
REFRESH-INTERVAL:P3D
CALSCALE:GREGORIAN
BEGIN:VEVENT
DTSTART:20190223T020000Z
DTEND:20190223T050000Z
X-MICROSOFT-CDO-ALLDAYEVENT:FALSE
SUMMARY:Black Panther- 4th Friday Movie Nights
DESCRIPTION:Join us for a free viewing of the movie Black Panther (2018) at Foster High School\, hosted by the Tukwila Parks and Recreation Department: Artists in Residence Program.
X-ALT-DESC;FMTTYPE=text/html:Join us for a free viewing of the movie Black Panther (2018) at Foster High School\, hosted by the Tukwila Parks and Recreation Department: Artists in Residence Program.
LOCATION:Foster High School Performing Arts Center 4242 S 144th Street Tukwila\, WA 98168
UID:e.2591.2766
SEQUENCE:3
DTSTAMP:20260424T141005Z
URL:http://seattlesouthsidechamber.com/events/details/black-panther-4th-friday-movie-nights-2766
END:VEVENT

END:VCALENDAR
