BEGIN:VCALENDAR
VERSION:2.0
PRODID:-//ChamberMaster//Event Calendar 2.0//EN
METHOD:PUBLISH
X-PUBLISHED-TTL:P3D
REFRESH-INTERVAL:P3D
CALSCALE:GREGORIAN
BEGIN:VEVENT
DTSTART:20180606T230000Z
DTEND:20180607T010000Z
X-MICROSOFT-CDO-ALLDAYEVENT:FALSE
SUMMARY:Birthday Dreams Ribbon Cutting & Grand Opening
DESCRIPTION:Join Birthday Dreams for our ribbon cutting & grand opening! Refreshments and raffle items. A non-profit bringing joy\, hope and dignity to homeless children with the gift of a birthday party.
X-ALT-DESC;FMTTYPE=text/html:Join Birthday Dreams for our ribbon cutting &amp\; grand opening! Refreshments and raffle items. A non-profit bringing joy\, hope and dignity to homeless children with the gift of a birthday party.
LOCATION:1084 Kirkland Ave. NE Renton\, WA
UID:e.2591.2118
SEQUENCE:3
DTSTAMP:20260424T234617Z
URL:http://seattlesouthsidechamber.com/events/details/birthday-dreams-ribbon-cutting-grand-opening-2118
END:VEVENT

END:VCALENDAR
