BEGIN:VCALENDAR
VERSION:2.0
PRODID:-//ChamberMaster//Event Calendar 2.0//EN
METHOD:PUBLISH
X-PUBLISHED-TTL:P3D
REFRESH-INTERVAL:P3D
CALSCALE:GREGORIAN
BEGIN:VEVENT
DTSTART:20190309T010000Z
DTEND:20190309T060000Z
X-MICROSOFT-CDO-ALLDAYEVENT:FALSE
SUMMARY:Best of Burien Awards Annual Dinner and Silent Auction
DESCRIPTION:Discover Burien Annual Dinner and Silent Auction\n\nBuilding a healthy community one business at a time
X-ALT-DESC;FMTTYPE=text/html:Discover Burien Annual Dinner and Silent Auction<br />\nBuilding a healthy community one business at a time
LOCATION:Burien Community Center 14700 6th Ave Sw Burien\, WA
UID:e.2591.2777
SEQUENCE:3
DTSTAMP:20260424T110756Z
URL:http://seattlesouthsidechamber.com/events/details/best-of-burien-awards-annual-dinner-and-silent-auction-2777
END:VEVENT

END:VCALENDAR
