BEGIN:VCALENDAR
VERSION:2.0
PRODID:-//ChamberMaster//Event Calendar 2.0//EN
METHOD:PUBLISH
X-PUBLISHED-TTL:P3D
REFRESH-INTERVAL:P3D
CALSCALE:GREGORIAN
BEGIN:VEVENT
DTSTART:20171001T210000Z
DTEND:20171001T230000Z
X-MICROSOFT-CDO-ALLDAYEVENT:FALSE
SUMMARY:Ben Butler by Richard Strand
DESCRIPTION:Two quick-witted men\, one black and one white\, and their innate stubbornness radically change the course of U.S. history and the purpose of the North's cause. This look at a key decision in the Civil War is part comedy\, part historical drama and part biography\, often all at once\, and sometimes none of those. A simultaneously thought-provoking and sidesplitting story of equality and the politics of race in America. Northwest premiere.\n\n\n\nGet your tickets to Ben Butler\, or send an email with your request to: tickets@burienactorstheatre.org
X-ALT-DESC;FMTTYPE=text/html:<span style="font-family: &quot\;Segoe UI&quot\;\, Arial\, Helvetica\, sans-serif\; font-size: 12.8px\;">Two quick-witted men\, one black and one white\, and their innate stubbornness radically change the course of U.S. history and the purpose of the North&rsquo\;s cause. This look at a key decision in the Civil War is part comedy\, part historical drama and part biography\, often all at once\, and sometimes none of those. A simultaneously thought-provoking and sidesplitting story of equality and the politics of race in America. Northwest premiere.<br />\n<br />\nGet your tickets to&nbsp\;</span><a class="link-button button-light button-light" href="https://v6.click4tix.com/event-details.php?e=430934" rel="noopener noreferrer" style="color: rgb(255\, 255\, 255)\; text-decoration-line: none\; outline: none\; transition: background-color 0.3s ease-out\, box-shadow 0s\; cursor: pointer\; font-size: 1.1em\; padding: 5px 12px\; border: 1px solid rgb(119\, 119\, 119)\; display: inline-block\; border-radius: 2px\; box-shadow: rgb(255\, 255\, 255) 0px 1px 0px inset\; text-shadow: rgba(255\, 255\, 255\, 0.8) 0px 1px 0px\; font-weight: bold\; background-color: rgb(238\, 238\, 238)\; font-family: &quot\;Segoe UI&quot\;\, Arial\, Helvetica\, sans-serif\;" target="_blank" title="Ben Butler">Ben Butler</a><span style="font-family: &quot\;Segoe UI&quot\;\, Arial\, Helvetica\, sans-serif\; font-size: 12.8px\;">\, or send an email with your request to:&nbsp\;</span><span id="cloak52aa32c36361293cd58f5ce4f4c76acf" style="font-family: &quot\;Segoe UI&quot\;\, Arial\, Helvetica\, sans-serif\; font-size: 12.8px\;"><span id="cloak44e0e144713c3868b20423d18babedb3"><a href="mailto:tickets@burienactorstheatre.org" style="color: rgb(36\, 145\, 202)\; text-decoration-line: none\; outline: none\; transition: color 0.3s ease\;">tickets@burienactorstheatre.org</a></span></span><br />\n&nbsp\;
LOCATION:Burien Actors Theatre 14501 4th Avenue SW\, Burien\, WA 98148
UID:e.2591.988
SEQUENCE:3
DTSTAMP:20260425T152808Z
URL:http://seattlesouthsidechamber.com/events/details/ben-butler-by-richard-strand-988
END:VEVENT

END:VCALENDAR
