BEGIN:VCALENDAR
VERSION:2.0
PRODID:-//ChamberMaster//Event Calendar 2.0//EN
METHOD:PUBLISH
X-PUBLISHED-TTL:P3D
REFRESH-INTERVAL:P3D
CALSCALE:GREGORIAN
BEGIN:VEVENT
DTSTART:20171015T030000Z
DTEND:20171015T060000Z
X-MICROSOFT-CDO-ALLDAYEVENT:FALSE
SUMMARY:Ben Butler by Richard Strand
DESCRIPTION:Two quick-witted men\, one black and one white\, and their innate stubbornness radically change the course of U.S. history and the purpose of the North's cause. This look at a key decision in the Civil War is part comedy\, part historical drama and part biography\, often all at once\, and sometimes none of those. A simultaneously thought-provoking and side-splitting story of equality and the politics of race in America. Northwest premiere.  \n\n\n\nGet your tickets online: Ben Butler\, or send an email with your request to:tickets@burienactorstheatre.org
X-ALT-DESC;FMTTYPE=text/html:<span style="font-family: arial\, helvetica\, sans-serif\; font-size: 18.6667px\;">Two quick-witted men\, one black and one white\, and their innate stubbornness radically change the course of U.S. history and the purpose of the North&rsquo\;s cause. This look at a key decision in the Civil War is part comedy\, part historical drama and part biography\, often all at once\, and sometimes none of those. A simultaneously thought-provoking and side-splitting story of equality and the politics of race in America. Northwest premiere. &nbsp\;</span><br />\n<br />\n<span style="font-family: arial\, helvetica\, sans-serif\; font-size: 14pt\;">Get your tickets online:</span><span style="font-family: arial\, helvetica\, sans-serif\; font-size: 12.8px\;">&nbsp\;</span><a class="link-button button-light" href="https://v6.click4tix.com/event-details.php?e=430934" rel="noopener noreferrer" style="text-decoration-line: none\; outline: none\; transition: all 0.2s ease-in-out\; cursor: pointer\; font-size: 1.1em\; padding: 5px 12px\; border: 1px solid rgb(119\, 119\, 119)\; display: block\; border-radius: 2px\; box-shadow: rgb(255\, 255\, 255) 0px 1px 0px inset\; text-shadow: rgba(255\, 255\, 255\, 0.8) 0px 1px 0px\; font-weight: bold\; opacity: 0.6\; background-color: rgb(238\, 238\, 238)\; font-family: arial\, helvetica\, sans-serif\; color: rgb(51\, 51\, 51) !important\;" target="_blank" title="Ben Butler">Ben Butler</a><span style="font-family: arial\, helvetica\, sans-serif\; font-size: 14pt\;">\, or send an email with your request to:<span id="cloak77cb7a3b7fbc188f51f5abc9cec29b78"><a href="mailto:tickets@burienactorstheatre.org" style="color: rgb(36\, 145\, 202)\; text-decoration-line: none\; outline: none\; transition: all 0.2s ease-in-out\; display: block\; opacity: 0.6\;">tickets@burienactorstheatre.org</a></span></span>
LOCATION:Burien Actors Theatre 14501 4th Avenue SW\, Burien\, WA 98148
UID:e.2591.985
SEQUENCE:3
DTSTAMP:20260425T152916Z
URL:http://seattlesouthsidechamber.com/events/details/ben-butler-by-richard-strand-10-14-2017-985
END:VEVENT

END:VCALENDAR
