BEGIN:VCALENDAR
VERSION:2.0
PRODID:-//ChamberMaster//Event Calendar 2.0//EN
METHOD:PUBLISH
X-PUBLISHED-TTL:P3D
REFRESH-INTERVAL:P3D
CALSCALE:GREGORIAN
BEGIN:VEVENT
DTSTART:20181116T230000Z
DTEND:20181117T030000Z
X-MICROSOFT-CDO-ALLDAYEVENT:FALSE
SUMMARY:Belleme Townhomes Open House/Sneak Peek
DESCRIPTION:Belleme Townhomes and The Chamber invite you to a special "sneak peek" at the new development in Normandy Park on Friday November 16th from 3pm-7pm.\n\n \n\nGuests will enjoy refreshments\, music\, and an opportunity to tour the property located at 18449 1st Ave S in beautiful Normandy Park. \n\nMayor Chicquette will join project planners and developers with a ribbon cutting ceremony at 4pm.
X-ALT-DESC;FMTTYPE=text/html:Belleme Townhomes and The Chamber invite you to a special &ldquo\;sneak peek&rdquo\; at the new development in Normandy Park on Friday November 16<sup>th</sup> from 3pm-7pm.<br />\n&nbsp\;<br />\nGuests will enjoy refreshments\, music\, and an opportunity to tour the property located at 18449 1st Ave S in beautiful Normandy Park.&nbsp\;<br />\nMayor Chicquette will join project planners and developers with a ribbon cutting ceremony at 4pm.<br />\n<br />\n&nbsp\;
LOCATION:Belleme Townhomes 18449 1st Ave S Normandy Park\, WA 98166
UID:e.2591.2606
SEQUENCE:3
DTSTAMP:20260424T173429Z
URL:http://seattlesouthsidechamber.com/events/details/belleme-townhomes-open-house-sneak-peek-2606
END:VEVENT

END:VCALENDAR
