BEGIN:VCALENDAR
VERSION:2.0
PRODID:-//ChamberMaster//Event Calendar 2.0//EN
METHOD:PUBLISH
X-PUBLISHED-TTL:P3D
REFRESH-INTERVAL:P3D
CALSCALE:GREGORIAN
BEGIN:VEVENT
DTSTART:20180512T170000Z
DTEND:20180512T220000Z
X-MICROSOFT-CDO-ALLDAYEVENT:FALSE
SUMMARY:Backyard Wildlife Festival
DESCRIPTION:Celebrate wildlife\, nature\, and gardening with over 50 art and craft vendors\, educational exhibitors\, and hands on projects. Ella Bella Bee and the Pollinators performs at 12 noon\, other special guests include the Falconer and Ciscoe Morris.
X-ALT-DESC;FMTTYPE=text/html:Celebrate wildlife\, nature\, and gardening with over 50 art and craft vendors\, educational exhibitors\, and hands on projects. Ella Bella Bee and the Pollinators performs at 12 noon\, other special guests include the Falconer and Ciscoe Morris.
LOCATION:Tukwila Community Center 12424 42nd Ave. S Tukwila\, WA 98168
UID:e.2591.2094
SEQUENCE:3
DTSTAMP:20260425T033106Z
URL:http://seattlesouthsidechamber.com/events/details/backyard-wildlife-festival-2094
END:VEVENT

END:VCALENDAR
