BEGIN:VCALENDAR
VERSION:2.0
PRODID:-//ChamberMaster//Event Calendar 2.0//EN
METHOD:PUBLISH
X-PUBLISHED-TTL:P3D
REFRESH-INTERVAL:P3D
CALSCALE:GREGORIAN
BEGIN:VEVENT
DTSTART;VALUE=DATE:20190306
DTEND;VALUE=DATE:20190307
TRANSP:TRANSPARENT
X-MICROSOFT-CDO-ALLDAYEVENT:TRUE
SUMMARY:AWB Workforce Summit-Leading with Employee Culture
DESCRIPTION:Back by popular demand\, AWB's third annual Workforce Summit will provide practical tips on the theme of "Leading with Employee Culture." We will be covering topics such as:\n\n	Financial & Mental Wellness\,\n	Absenteeism & Presenteeism: Working with Childcare & Healthcare Challenges\, and\n	Scheduling & Workplace Policies for the Modern Employee.\n\nWe'll also continue with a popular tradition as the Ryan Swanson Law team returns to answer your employment law questions around workplace best practices.\n\n\n\nThis event is perfect for employers of any size. It will be of special interest to human resource professionals\, managers who handle HR duties among other duties\, and business leaders looking to upgrade their toolkit for recruiting\, retaining and engaging employees.
X-ALT-DESC;FMTTYPE=text/html:Back by popular demand\, AWB&rsquo\;s third annual Workforce Summit will provide practical tips on the theme of &ldquo\;Leading with Employee Culture.&rdquo\; We will be covering topics such as:\n<ul>\n	<li>Financial &amp\; Mental Wellness\,</li>\n	<li>Absenteeism &amp\; Presenteeism: Working with Childcare &amp\; Healthcare Challenges\, and</li>\n	<li>Scheduling &amp\; Workplace Policies for the Modern Employee.</li>\n</ul>\nWe&rsquo\;ll also continue with a popular tradition as the Ryan Swanson Law team returns to answer your employment law questions around workplace best practices.<br />\n<br />\nThis event is perfect for employers of any size. It will be of special interest to human resource professionals\, managers who handle HR duties among other duties\, and business leaders looking to upgrade their toolkit for recruiting\, retaining and engaging employees.<br />\n&nbsp\;
LOCATION:Hilton Bellevue 300 112th Ave SE Bellevue\, WA 98004
UID:e.2591.2808
SEQUENCE:3
DTSTAMP:20260424T110504Z
URL:http://seattlesouthsidechamber.com/events/details/awb-workforce-summit-leading-with-employee-culture-2808
END:VEVENT

END:VCALENDAR
