BEGIN:VCALENDAR
VERSION:2.0
PRODID:-//ChamberMaster//Event Calendar 2.0//EN
METHOD:PUBLISH
X-PUBLISHED-TTL:P3D
REFRESH-INTERVAL:P3D
CALSCALE:GREGORIAN
BEGIN:VEVENT
DTSTART:20190227T200000Z
DTEND:20190227T213000Z
X-MICROSOFT-CDO-ALLDAYEVENT:FALSE
SUMMARY:AWB Opportunity Zones Luncheon
DESCRIPTION:Please join AWB for an informational session about Opportunity Zones!\n\n			\n\n			This exciting new incentive to encourage economic activity and job creation in low income areas can provide significant tax benefits to investors\, reduce the cost of capital for developers and entrepreneurs\, and attract investment to areas that might otherwise be overlooked.\n\n			\n\n			All who are interested in unlocking investment potential in low-income communities\, including investors\, developers\, entrepreneurs\, fund sponsors\, non-profit organizations and economic development authorities\, are invited to come and learn the basics about the requirements\, mechanics and benefits of the Opportunity Zone incentive.
X-ALT-DESC;FMTTYPE=text/html:<table border="0" cellpadding="0" cellspacing="0">\n	<tbody>\n		<tr>\n			<td>Please join AWB for an informational session about Opportunity Zones!<br />\n			<br />\n			This exciting new incentive to encourage economic activity and job creation in low income areas can provide significant tax benefits to investors\, reduce the cost of capital for developers and entrepreneurs\, and attract investment to areas that might otherwise be overlooked.<br />\n			<br />\n			All who are interested in unlocking investment potential in low-income communities\, including investors\, developers\, entrepreneurs\, fund sponsors\, non-profit organizations and economic development authorities\, are invited to come and learn the basics about the requirements\, mechanics and benefits of the Opportunity Zone incentive.</td>\n		</tr>\n	</tbody>\n</table>\n
LOCATION:Crowne Plaza\, SeaTac 17338 International Blvd\, Seattle WA 98188
UID:e.2591.2835
SEQUENCE:3
DTSTAMP:20260424T123250Z
URL:http://seattlesouthsidechamber.com/events/details/awb-opportunity-zones-luncheon-2835
END:VEVENT

END:VCALENDAR
