BEGIN:VCALENDAR
VERSION:2.0
PRODID:-//ChamberMaster//Event Calendar 2.0//EN
METHOD:PUBLISH
X-PUBLISHED-TTL:P3D
REFRESH-INTERVAL:P3D
CALSCALE:GREGORIAN
BEGIN:VEVENT
DTSTART:20180814T143000Z
DTEND:20180814T233000Z
X-MICROSOFT-CDO-ALLDAYEVENT:FALSE
SUMMARY:AWB Federal Affairs Summit
DESCRIPTION:onnect with Congress at AWB's Federal Affairs Summit in Tacoma. Federal policies have an outsized impact here in Washington\, where international trade and military bases are cornerstones of the economy. Taxes\, immigration\, and transportation are critical to Washington's employers\, too. That's why AWB is proud to present the 2018 Federal Affairs Summit this August 14 in Tacoma. Make your voice heard about the issues that matter to you--without making a trip to D.C.
X-ALT-DESC;FMTTYPE=text/html:onnect with Congress at AWB&#39\;s Federal Affairs Summit in Tacoma. Federal policies have an outsized impact here in Washington\, where international trade and military bases are cornerstones of the economy. Taxes\, immigration\, and transportation are critical to Washington&#39\;s employers\, too. That&#39\;s why AWB is proud to present the 2018 Federal Affairs Summit this August 14 in Tacoma. Make your voice heard about the issues that matter to you--without making a trip to D.C.
LOCATION:Greater Tacoma Convention Center 1500 Commerce St\, Tacoma\, WA 98402
UID:e.2591.2165
SEQUENCE:3
DTSTAMP:20260424T221005Z
URL:http://seattlesouthsidechamber.com/events/details/awb-federal-affairs-summit-2165
END:VEVENT

END:VCALENDAR
