BEGIN:VCALENDAR
VERSION:2.0
PRODID:-//ChamberMaster//Event Calendar 2.0//EN
METHOD:PUBLISH
X-PUBLISHED-TTL:P3D
REFRESH-INTERVAL:P3D
CALSCALE:GREGORIAN
BEGIN:VEVENT
DTSTART:20170809T183000Z
DTEND:20170809T200000Z
X-MICROSOFT-CDO-ALLDAYEVENT:FALSE
SUMMARY:August Luncheon with the Port of Seattle
DESCRIPTION:Join us for our August Luncheon at the Port of Seattle Sea-Tac International Airport. Managing Director Lance Lyttle will be our keynote speaker. He'll talk about new opportunities and service upgrades at Sea-Tac.\n\n\n\nThe Port of Seattle is also giving a special airfield tour to the first 50 people to register for the Luncheon. So register early to take part in this exciting behind the scenes opportunity. \n\n\n\nThank you to our host and presenting sponsor The Port of Seattle. And to our Media Sponsors\, Crain Photography\, and South King Media.
X-ALT-DESC;FMTTYPE=text/html:Join us for our August Luncheon at the Port of Seattle Sea-Tac International Airport. Managing Director Lance Lyttle&nbsp\;will be our keynote speaker. He&#39\;ll talk about new opportunities and service upgrades at Sea-Tac.<br />\n<br />\nThe Port of Seattle is also giving a special airfield tour to the first 50 people to register for the Luncheon. So register early to take part in this exciting behind the scenes opportunity.&nbsp\;<br />\n<br />\nThank you to our host and presenting sponsor The Port of Seattle. And to our Media Sponsors\, Crain Photography\, and South King Media.<br />\n&nbsp\;
LOCATION:The Conference Center Seattle-Tacoma International Airport
UID:e.2591.636
SEQUENCE:3
DTSTAMP:20260425T153236Z
URL:http://seattlesouthsidechamber.com/events/details/august-luncheon-with-the-port-of-seattle-636
END:VEVENT

END:VCALENDAR
