BEGIN:VCALENDAR
VERSION:2.0
PRODID:-//ChamberMaster//Event Calendar 2.0//EN
METHOD:PUBLISH
X-PUBLISHED-TTL:P3D
REFRESH-INTERVAL:P3D
CALSCALE:GREGORIAN
BEGIN:VEVENT
DTSTART:20180830T010000Z
DTEND:20180830T030000Z
X-MICROSOFT-CDO-ALLDAYEVENT:FALSE
SUMMARY:Audiobook Ministries Ribbon Cutting Ceremony and Open House
DESCRIPTION:Join us for the Grand Re-Opening of Audiobook Ministries! Come in and see what this local nonprofit is all about. We are one of only a handful of services in the nation offering free\, non-denominational audio materials to the vision impaired! \n\n\n\nWe will have a ribbon-cutting ceremony to commemorate the newly renovated "Greg Vicars Reading Room" named in memoriam of our former Executive Director. \n\n\n\nPlease stop in to learn more about our services and tour our facility during this open house!"
X-ALT-DESC;FMTTYPE=text/html:Join us for the Grand Re-Opening of Audiobook Ministries! Come in and see what this local nonprofit is all about. We are one of only a handful of services in the nation offering free\, non-denominational audio materials to the vision impaired!&nbsp\;<br />\n<br />\nWe will have a ribbon-cutting ceremony to commemorate the newly renovated &ldquo\;Greg Vicars Reading Room&rdquo\; named in memoriam of our former Executive Director.&nbsp\;<br />\n<br />\nPlease stop in to learn more about our services and tour our facility during this open house!&rdquo\;<br />\n<br />\n&nbsp\;
LOCATION:840 S. 192nd St.\, Seattle\, WA 98148
UID:e.2591.2143
SEQUENCE:3
DTSTAMP:20260424T204156Z
URL:http://seattlesouthsidechamber.com/events/details/audiobook-ministries-ribbon-cutting-ceremony-and-open-house-2143
END:VEVENT

END:VCALENDAR
