BEGIN:VCALENDAR
VERSION:2.0
PRODID:-//ChamberMaster//Event Calendar 2.0//EN
METHOD:PUBLISH
X-PUBLISHED-TTL:P3D
REFRESH-INTERVAL:P3D
CALSCALE:GREGORIAN
BEGIN:VEVENT
DTSTART:20181115T193000Z
DTEND:20181116T033000Z
X-MICROSOFT-CDO-ALLDAYEVENT:FALSE
SUMMARY:Audiobook fundraiser at Stacks in Federal Way
DESCRIPTION:Dine at Stacks on November 15\, 1130 am-730 pm and 20% of all proceeds will go to Audiobook Ministries\, a non-profit\, non-denominational library fo spiritually uplifting\, inspiring\, wholesome books and devotionals loaned free of charge to persons with visual or other disabilities.
X-ALT-DESC;FMTTYPE=text/html:Dine at Stacks on November 15\, 1130 am-730 pm and 20% of all proceeds will go to Audiobook Ministries\, a non-profit\, non-denominational library fo spiritually uplifting\, inspiring\, wholesome books and devotionals loaned free of charge to persons with visual or other disabilities.
LOCATION:Stacks 1706 S 320th St Federal Way\, WA 98003
UID:e.2591.2616
SEQUENCE:3
DTSTAMP:20260424T173253Z
URL:http://seattlesouthsidechamber.com/events/details/audiobook-fundraiser-at-stacks-in-federal-way-2616
END:VEVENT

END:VCALENDAR
