BEGIN:VCALENDAR
VERSION:2.0
PRODID:-//ChamberMaster//Event Calendar 2.0//EN
METHOD:PUBLISH
X-PUBLISHED-TTL:P3D
REFRESH-INTERVAL:P3D
CALSCALE:GREGORIAN
BEGIN:VEVENT
DTSTART:20181025T183000Z
DTEND:20181026T023000Z
X-MICROSOFT-CDO-ALLDAYEVENT:FALSE
SUMMARY:Audiobook fundraiser at Stacks in Federal Way
DESCRIPTION:Fundraiser at Stacks to support Audiobook Ministries! Please feel free to stop by Stacks on October 25th anytime between 11:30am to 7:30pm. Enjoy a delicious burger and 20% of proceeds will be donated to Audiobook Ministries NW.
X-ALT-DESC;FMTTYPE=text/html:Fundraiser at Stacks&nbsp\;to support Audiobook Ministries! Please feel free to stop by Stacks on October 25th anytime between 11:30am to 7:30pm. Enjoy a delicious burger and 20% of proceeds will be donated to Audiobook Ministries NW.&nbsp\;\n<div id="fbPhotoSnowliftCTMButton">&nbsp\;</div>\n
LOCATION:Stacks 1706 S 320th Federal Way\, WA 98003
UID:e.2591.2583
SEQUENCE:3
DTSTAMP:20260424T185409Z
URL:http://seattlesouthsidechamber.com/events/details/audiobook-fundraiser-at-stacks-in-federal-way-2583
END:VEVENT

END:VCALENDAR
