BEGIN:VCALENDAR
VERSION:2.0
PRODID:-//ChamberMaster//Event Calendar 2.0//EN
METHOD:PUBLISH
X-PUBLISHED-TTL:P3D
REFRESH-INTERVAL:P3D
CALSCALE:GREGORIAN
BEGIN:VEVENT
DTSTART:20181214T032000Z
DTEND:20181214T043000Z
X-MICROSOFT-CDO-ALLDAYEVENT:FALSE
SUMMARY:Argosy Christmas Ship and the Dickens Choir-Des Moines Marina and Redondo Beach
DESCRIPTION:The Christmas Ship with the Dicken's Choir performs at the Des Moines Marina and later at Redondo Beach.\nWelcome the Christmas Ship  and Follow Boats from a community event on shore and enjoy a 20-minute choir performance\, broadcast from the Christmas Ship . This is the ultimate Christmas light viewing experience!\n\nUp close views of the Christmas Ship  and Follow Boats\n\nLive choir performance broadcast from aboard the Christmas Ship \n\nOnshore community bonfire\, lighting or special event*
X-ALT-DESC;FMTTYPE=text/html:The Christmas Ship with the Dicken&#39\;s Choir performs at the Des Moines Marina and later at Redondo Beach.\n<p helvetica="" open="" text-align:="">Welcome the Christmas Ship&trade\; and Follow Boats from a community event on shore and enjoy a 20-minute choir performance\, broadcast&nbsp\;from the Christmas Ship&trade\;. This is the ultimate Christmas light viewing experience!</p>\n\n<p helvetica="" open="" text-align:="">Up close views of the Christmas Ship&trade\; and Follow Boats</p>\n\n<p helvetica="" open="" text-align:="">Live choir&nbsp\;performance broadcast from aboard the Christmas Ship&trade\;</p>\n\n<p helvetica="" open="" text-align:="">Onshore community bonfire\, lighting or special event*</p>\n
LOCATION:First Performance 720 pm Des Moines Marina 22307 Dock Avenue South\, Des Moines\, WA Second Performance 810 pm Redondo Beach Redondo Beach Drive South Des Moines\, WA 98198
UID:e.2591.2595
SEQUENCE:3
DTSTAMP:20260424T155215Z
URL:http://seattlesouthsidechamber.com/events/details/argosy-christmas-ship-and-the-dickens-choir-des-moines-marina-and-redondo-beach-2595
END:VEVENT

END:VCALENDAR
